Workbook

Sheet Damage Calculation
A1: DOGAMI Special Paper 50, Flood Risk Assessment for the Columbia Corridor Drainage Districts in Multnomah County, Oregon
A2: Damage Calculation | H2: Supplementary Information
A3: Parking Lot Facility | B3: Number of Vehicles (EXAMPLE: Parking lots are at 50% capacity) | C3: 100-Year Flood Loss Ratio (%) | D3: 500-Year Flood Loss Ratio | E3: 100-Year Flood, Vehicle Replacement Cost ($) | F3: 500-Year Flood, Vehicle Replacement Cost ($) | H3: Average parking lot depth, 100-year flood (ft) | I3: Average parking lot depth, 500-year flood (ft) | J3: Estimated maxium number of vehicles | K3: Vehicle estimate source
A4: PDX Employee Parking Lot | B4: 1200 | C4: =(((VLOOKUP((CEILING(H4,0.5)), 'Depth-Damage Relationship'!$A$5:$F$32, 2))*$B$17)+((VLOOKUP((CEILING(H4,0.5)), 'Depth-Damage Relationship'!$A$5:$F$32, 3))*$C$17)+((VLOOKUP((CEILING(H4,0.5)), 'Depth-Damage Relationship'!$A$5:$F$32, 4))*$D$17)+((VLOOKUP((CEILING(H4,0.5)), 'Depth-Damage Relationship'!$A$5:$F$32, 5))*$E$17)+((VLOOKUP((CEILING(H4,0.5)), 'Depth-Damage Relationship'!$A$5:$F$32, 6))*$F$17)) -> 1 | D4: =(((VLOOKUP((CEILING(I4,0.5)), 'Depth-Damage Relationship'!$A$5:$F$32, 2))*$B$17)+((VLOOKUP((CEILING(I4,0.5)), 'Depth-Damage Relationship'!$A$5:$F$32, 3))*$C$17)+((VLOOKUP((CEILING(I4,0.5)), 'Depth-Damage Relationship'!$A$5:$F$32, 4))*$D$17)+((VLOOKUP((CEILING(I4,0.5)), 'Depth-Damage Relationship'!$A$5:$F$32, 5))*$E$17)+((VLOOKUP((CEILING(I4,0.5)), 'Depth-Damage Relationship'!$A$5:$F$32, 6))*$F$17)) -> 1 | E4: =(((VLOOKUP((CEILING(H4,0.5)), 'Depth-Damage Relationship'!$A$5:$F$32, 2))*$B$17*$B$18*$B4)+((VLOOKUP((CEILING(H4,0.5)), 'Depth-Damage Relationship'!$A$5:$F$32, 3))*$C$17*$C$18*$B4)+((VLOOKUP((CEILING(H4,0.5)), 'Depth-Damage Relationship'!$A$5:$F$32, 4))*$D$17*$D$18*$B4)+((VLOOKUP((CEILING(H4,0.5)), 'Depth-Damage Relationship'!$A$5:$F$32, 3))*$E$17*$E$18*$B4)+((VLOOKUP((CEILING(H4,0.5)), 'Depth-Damage Relationship'!$A$5:$F$32, 3))*$F$17*$F$18*$B4)) -> 31723284 | F4: =(((VLOOKUP((CEILING(I4,0.5)), 'Depth-Damage Relationship'!$A$5:$F$32, 2))*$B$17*$B$18*$B4)+((VLOOKUP((CEILING(I4,0.5)), 'Depth-Damage Relationship'!$A$5:$F$32, 3))*$C$17*$C$18*$B4)+((VLOOKUP((CEILING(I4,0.5)), 'Depth-Damage Relationship'!$A$5:$F$32, 4))*$D$17*$D$18*$B4)+((VLOOKUP((CEILING(I4,0.5)), 'Depth-Damage Relationship'!$A$5:$F$32, 3))*$E$17*$E$18*$B4)+((VLOOKUP((CEILING(I4,0.5)), 'Depth-Damage Relationship'!$A$5:$F$32, 3))*$F$17*$F$18*$B4)) -> 31723284 | H4: 6.8039 | I4: 10.1039 | J4: 2400 | K4: MCDD, personal communication, 2017
A5: PDX Economy Lots (East, Central, West) | B5: 3900 | C5: =(((VLOOKUP((CEILING(H5,0.5)), 'Depth-Damage Relationship'!$A$5:$F$32, 2))*$B$17)+((VLOOKUP((CEILING(H5,0.5)), 'Depth-Damage Relationship'!$A$5:$F$32, 3))*$C$17)+((VLOOKUP((CEILING(H5,0.5)), 'Depth-Damage Relationship'!$A$5:$F$32, 4))*$D$17)+((VLOOKUP((CEILING(H5,0.5)), 'Depth-Damage Relationship'!$A$5:$F$32, 5))*$E$17)+((VLOOKUP((CEILING(H5,0.5)), 'Depth-Damage Relationship'!$A$5:$F$32, 6))*$F$17)) -> 1 | D5: =(((VLOOKUP((CEILING(I5,0.5)), 'Depth-Damage Relationship'!$A$5:$F$32, 2))*$B$17)+((VLOOKUP((CEILING(I5,0.5)), 'Depth-Damage Relationship'!$A$5:$F$32, 3))*$C$17)+((VLOOKUP((CEILING(I5,0.5)), 'Depth-Damage Relationship'!$A$5:$F$32, 4))*$D$17)+((VLOOKUP((CEILING(I5,0.5)), 'Depth-Damage Relationship'!$A$5:$F$32, 5))*$E$17)+((VLOOKUP((CEILING(I5,0.5)), 'Depth-Damage Relationship'!$A$5:$F$32, 6))*$F$17)) -> 1 | E5: =(((VLOOKUP((CEILING(H5,0.5)), 'Depth-Damage Relationship'!$A$5:$F$32, 2))*$B$17*$B$18*$B5)+((VLOOKUP((CEILING(H5,0.5)), 'Depth-Damage Relationship'!$A$5:$F$32, 3))*$C$17*$C$18*$B5)+((VLOOKUP((CEILING(H5,0.5)), 'Depth-Damage Relationship'!$A$5:$F$32, 4))*$D$17*$D$18*$B5)+((VLOOKUP((CEILING(H5,0.5)), 'Depth-Damage Relationship'!$A$5:$F$32, 3))*$E$17*$E$18*$B5)+((VLOOKUP((CEILING(H5,0.5)), 'Depth-Damage Relationship'!$A$5:$F$32, 3))*$F$17*$F$18*$B5)) -> 103100673 | F5: =(((VLOOKUP((CEILING(I5,0.5)), 'Depth-Damage Relationship'!$A$5:$F$32, 2))*$B$17*$B$18*$B5)+((VLOOKUP((CEILING(I5,0.5)), 'Depth-Damage Relationship'!$A$5:$F$32, 3))*$C$17*$C$18*$B5)+((VLOOKUP((CEILING(I5,0.5)), 'Depth-Damage Relationship'!$A$5:$F$32, 4))*$D$17*$D$18*$B5)+((VLOOKUP((CEILING(I5,0.5)), 'Depth-Damage Relationship'!$A$5:$F$32, 3))*$E$17*$E$18*$B5)+((VLOOKUP((CEILING(I5,0.5)), 'Depth-Damage Relationship'!$A$5:$F$32, 3))*$F$17*$F$18*$B5)) -> 103100673 | H5: 4.5688033 | I5: 7.8634533 | J5: 7800 | K5: MCDD, personal communication, 2017
A6: PDX Short Term Garage (first floor only) | B6: 225 | C6: =(((VLOOKUP((CEILING(H6,0.5)), 'Depth-Damage Relationship'!$A$5:$F$32, 2))*$B$17)+((VLOOKUP((CEILING(H6,0.5)), 'Depth-Damage Relationship'!$A$5:$F$32, 3))*$C$17)+((VLOOKUP((CEILING(H6,0.5)), 'Depth-Damage Relationship'!$A$5:$F$32, 4))*$D$17)+((VLOOKUP((CEILING(H6,0.5)), 'Depth-Damage Relationship'!$A$5:$F$32, 5))*$E$17)+((VLOOKUP((CEILING(H6,0.5)), 'Depth-Damage Relationship'!$A$5:$F$32, 6))*$F$17)) -> 1 | D6: =(((VLOOKUP((CEILING(I6,0.5)), 'Depth-Damage Relationship'!$A$5:$F$32, 2))*$B$17)+((VLOOKUP((CEILING(I6,0.5)), 'Depth-Damage Relationship'!$A$5:$F$32, 3))*$C$17)+((VLOOKUP((CEILING(I6,0.5)), 'Depth-Damage Relationship'!$A$5:$F$32, 4))*$D$17)+((VLOOKUP((CEILING(I6,0.5)), 'Depth-Damage Relationship'!$A$5:$F$32, 5))*$E$17)+((VLOOKUP((CEILING(I6,0.5)), 'Depth-Damage Relationship'!$A$5:$F$32, 6))*$F$17)) -> 1 | E6: =(((VLOOKUP((CEILING(H6,0.5)), 'Depth-Damage Relationship'!$A$5:$F$32, 2))*$B$17*$B$18*$B6)+((VLOOKUP((CEILING(H6,0.5)), 'Depth-Damage Relationship'!$A$5:$F$32, 3))*$C$17*$C$18*$B6)+((VLOOKUP((CEILING(H6,0.5)), 'Depth-Damage Relationship'!$A$5:$F$32, 4))*$D$17*$D$18*$B6)+((VLOOKUP((CEILING(H6,0.5)), 'Depth-Damage Relationship'!$A$5:$F$32, 3))*$E$17*$E$18*$B6)+((VLOOKUP((CEILING(H6,0.5)), 'Depth-Damage Relationship'!$A$5:$F$32, 3))*$F$17*$F$18*$B6)) -> 5948115.8 | F6: =(((VLOOKUP((CEILING(I6,0.5)), 'Depth-Damage Relationship'!$A$5:$F$32, 2))*$B$17*$B$18*$B6)+((VLOOKUP((CEILING(I6,0.5)), 'Depth-Damage Relationship'!$A$5:$F$32, 3))*$C$17*$C$18*$B6)+((VLOOKUP((CEILING(I6,0.5)), 'Depth-Damage Relationship'!$A$5:$F$32, 4))*$D$17*$D$18*$B6)+((VLOOKUP((CEILING(I6,0.5)), 'Depth-Damage Relationship'!$A$5:$F$32, 3))*$E$17*$E$18*$B6)+((VLOOKUP((CEILING(I6,0.5)), 'Depth-Damage Relationship'!$A$5:$F$32, 3))*$F$17*$F$18*$B6)) -> 5948115.8 | H6: 4.02472 | I6: 7.32472 | J6: 450 | K6: MCDD, personal communication, (assumes 7 stories)
A7: PDX Parking Lot, south of garage | B7: 200 | C7: =(((VLOOKUP((CEILING(H7,0.5)), 'Depth-Damage Relationship'!$A$5:$F$32, 2))*$B$17)+((VLOOKUP((CEILING(H7,0.5)), 'Depth-Damage Relationship'!$A$5:$F$32, 3))*$C$17)+((VLOOKUP((CEILING(H7,0.5)), 'Depth-Damage Relationship'!$A$5:$F$32, 4))*$D$17)+((VLOOKUP((CEILING(H7,0.5)), 'Depth-Damage Relationship'!$A$5:$F$32, 5))*$E$17)+((VLOOKUP((CEILING(H7,0.5)), 'Depth-Damage Relationship'!$A$5:$F$32, 6))*$F$17)) -> 1 | D7: =(((VLOOKUP((CEILING(I7,0.5)), 'Depth-Damage Relationship'!$A$5:$F$32, 2))*$B$17)+((VLOOKUP((CEILING(I7,0.5)), 'Depth-Damage Relationship'!$A$5:$F$32, 3))*$C$17)+((VLOOKUP((CEILING(I7,0.5)), 'Depth-Damage Relationship'!$A$5:$F$32, 4))*$D$17)+((VLOOKUP((CEILING(I7,0.5)), 'Depth-Damage Relationship'!$A$5:$F$32, 5))*$E$17)+((VLOOKUP((CEILING(I7,0.5)), 'Depth-Damage Relationship'!$A$5:$F$32, 6))*$F$17)) -> 1 | E7: =(((VLOOKUP((CEILING(H7,0.5)), 'Depth-Damage Relationship'!$A$5:$F$32, 2))*$B$17*$B$18*$B7)+((VLOOKUP((CEILING(H7,0.5)), 'Depth-Damage Relationship'!$A$5:$F$32, 3))*$C$17*$C$18*$B7)+((VLOOKUP((CEILING(H7,0.5)), 'Depth-Damage Relationship'!$A$5:$F$32, 4))*$D$17*$D$18*$B7)+((VLOOKUP((CEILING(H7,0.5)), 'Depth-Damage Relationship'!$A$5:$F$32, 3))*$E$17*$E$18*$B7)+((VLOOKUP((CEILING(H7,0.5)), 'Depth-Damage Relationship'!$A$5:$F$32, 3))*$F$17*$F$18*$B7)) -> 5287214 | F7: =(((VLOOKUP((CEILING(I7,0.5)), 'Depth-Damage Relationship'!$A$5:$F$32, 2))*$B$17*$B$18*$B7)+((VLOOKUP((CEILING(I7,0.5)), 'Depth-Damage Relationship'!$A$5:$F$32, 3))*$C$17*$C$18*$B7)+((VLOOKUP((CEILING(I7,0.5)), 'Depth-Damage Relationship'!$A$5:$F$32, 4))*$D$17*$D$18*$B7)+((VLOOKUP((CEILING(I7,0.5)), 'Depth-Damage Relationship'!$A$5:$F$32, 3))*$E$17*$E$18*$B7)+((VLOOKUP((CEILING(I7,0.5)), 'Depth-Damage Relationship'!$A$5:$F$32, 3))*$F$17*$F$18*$B7)) -> 5287214 | H7: 9.71978 | I7: 13.0198 | J7: 400 | K7: Estimate by DOGAMI, based on 2016 aerial imagery, actual values may vary
A8: PDX Long Term Garage (first floor only) and Port of Portland HQ Parking Lot | B8: 215 | C8: =(((VLOOKUP((CEILING(H8,0.5)), 'Depth-Damage Relationship'!$A$5:$F$32, 2))*$B$17)+((VLOOKUP((CEILING(H8,0.5)), 'Depth-Damage Relationship'!$A$5:$F$32, 3))*$C$17)+((VLOOKUP((CEILING(H8,0.5)), 'Depth-Damage Relationship'!$A$5:$F$32, 4))*$D$17)+((VLOOKUP((CEILING(H8,0.5)), 'Depth-Damage Relationship'!$A$5:$F$32, 5))*$E$17)+((VLOOKUP((CEILING(H8,0.5)), 'Depth-Damage Relationship'!$A$5:$F$32, 6))*$F$17)) -> 1 | D8: =(((VLOOKUP((CEILING(I8,0.5)), 'Depth-Damage Relationship'!$A$5:$F$32, 2))*$B$17)+((VLOOKUP((CEILING(I8,0.5)), 'Depth-Damage Relationship'!$A$5:$F$32, 3))*$C$17)+((VLOOKUP((CEILING(I8,0.5)), 'Depth-Damage Relationship'!$A$5:$F$32, 4))*$D$17)+((VLOOKUP((CEILING(I8,0.5)), 'Depth-Damage Relationship'!$A$5:$F$32, 5))*$E$17)+((VLOOKUP((CEILING(I8,0.5)), 'Depth-Damage Relationship'!$A$5:$F$32, 6))*$F$17)) -> 1 | E8: =(((VLOOKUP((CEILING(H8,0.5)), 'Depth-Damage Relationship'!$A$5:$F$32, 2))*$B$17*$B$18*$B8)+((VLOOKUP((CEILING(H8,0.5)), 'Depth-Damage Relationship'!$A$5:$F$32, 3))*$C$17*$C$18*$B8)+((VLOOKUP((CEILING(H8,0.5)), 'Depth-Damage Relationship'!$A$5:$F$32, 4))*$D$17*$D$18*$B8)+((VLOOKUP((CEILING(H8,0.5)), 'Depth-Damage Relationship'!$A$5:$F$32, 3))*$E$17*$E$18*$B8)+((VLOOKUP((CEILING(H8,0.5)), 'Depth-Damage Relationship'!$A$5:$F$32, 3))*$F$17*$F$18*$B8)) -> 5683755.1 | F8: =(((VLOOKUP((CEILING(I8,0.5)), 'Depth-Damage Relationship'!$A$5:$F$32, 2))*$B$17*$B$18*$B8)+((VLOOKUP((CEILING(I8,0.5)), 'Depth-Damage Relationship'!$A$5:$F$32, 3))*$C$17*$C$18*$B8)+((VLOOKUP((CEILING(I8,0.5)), 'Depth-Damage Relationship'!$A$5:$F$32, 4))*$D$17*$D$18*$B8)+((VLOOKUP((CEILING(I8,0.5)), 'Depth-Damage Relationship'!$A$5:$F$32, 3))*$E$17*$E$18*$B8)+((VLOOKUP((CEILING(I8,0.5)), 'Depth-Damage Relationship'!$A$5:$F$32, 3))*$F$17*$F$18*$B8)) -> 5683755.1 | H8: 4.02472 | I8: 7.32472 | J8: 430 | K8: MCDD, personal communication, (assumes 7 stories)
A9: Port of Portland HQ Parking | B9: 30 | C9: =(((VLOOKUP((CEILING(H9,0.5)), 'Depth-Damage Relationship'!$A$5:$F$32, 2))*$B$17)+((VLOOKUP((CEILING(H9,0.5)), 'Depth-Damage Relationship'!$A$5:$F$32, 3))*$C$17)+((VLOOKUP((CEILING(H9,0.5)), 'Depth-Damage Relationship'!$A$5:$F$32, 4))*$D$17)+((VLOOKUP((CEILING(H9,0.5)), 'Depth-Damage Relationship'!$A$5:$F$32, 5))*$E$17)+((VLOOKUP((CEILING(H9,0.5)), 'Depth-Damage Relationship'!$A$5:$F$32, 6))*$F$17)) -> 1 | D9: =(((VLOOKUP((CEILING(I9,0.5)), 'Depth-Damage Relationship'!$A$5:$F$32, 2))*$B$17)+((VLOOKUP((CEILING(I9,0.5)), 'Depth-Damage Relationship'!$A$5:$F$32, 3))*$C$17)+((VLOOKUP((CEILING(I9,0.5)), 'Depth-Damage Relationship'!$A$5:$F$32, 4))*$D$17)+((VLOOKUP((CEILING(I9,0.5)), 'Depth-Damage Relationship'!$A$5:$F$32, 5))*$E$17)+((VLOOKUP((CEILING(I9,0.5)), 'Depth-Damage Relationship'!$A$5:$F$32, 6))*$F$17)) -> 1 | E9: =(((VLOOKUP((CEILING(H9,0.5)), 'Depth-Damage Relationship'!$A$5:$F$32, 2))*$B$17*$B$18*$B9)+((VLOOKUP((CEILING(H9,0.5)), 'Depth-Damage Relationship'!$A$5:$F$32, 3))*$C$17*$C$18*$B9)+((VLOOKUP((CEILING(H9,0.5)), 'Depth-Damage Relationship'!$A$5:$F$32, 4))*$D$17*$D$18*$B9)+((VLOOKUP((CEILING(H9,0.5)), 'Depth-Damage Relationship'!$A$5:$F$32, 3))*$E$17*$E$18*$B9)+((VLOOKUP((CEILING(H9,0.5)), 'Depth-Damage Relationship'!$A$5:$F$32, 3))*$F$17*$F$18*$B9)) -> 793082.1 | F9: =(((VLOOKUP((CEILING(I9,0.5)), 'Depth-Damage Relationship'!$A$5:$F$32, 2))*$B$17*$B$18*$B9)+((VLOOKUP((CEILING(I9,0.5)), 'Depth-Damage Relationship'!$A$5:$F$32, 3))*$C$17*$C$18*$B9)+((VLOOKUP((CEILING(I9,0.5)), 'Depth-Damage Relationship'!$A$5:$F$32, 4))*$D$17*$D$18*$B9)+((VLOOKUP((CEILING(I9,0.5)), 'Depth-Damage Relationship'!$A$5:$F$32, 3))*$E$17*$E$18*$B9)+((VLOOKUP((CEILING(I9,0.5)), 'Depth-Damage Relationship'!$A$5:$F$32, 3))*$F$17*$F$18*$B9)) -> 793082.1 | H9: 4.02472 | I9: 7.32472 | J9: 60 | K9: MCDD, personal communication, (assumes 7 stories)
A10: Cascade Station, Target, IKEA Parking Lots | B10: 2500 | C10: =(((VLOOKUP((CEILING(H10,0.5)), 'Depth-Damage Relationship'!$A$5:$F$32, 2))*$B$17)+((VLOOKUP((CEILING(H10,0.5)), 'Depth-Damage Relationship'!$A$5:$F$32, 3))*$C$17)+((VLOOKUP((CEILING(H10,0.5)), 'Depth-Damage Relationship'!$A$5:$F$32, 4))*$D$17)+((VLOOKUP((CEILING(H10,0.5)), 'Depth-Damage Relationship'!$A$5:$F$32, 5))*$E$17)+((VLOOKUP((CEILING(H10,0.5)), 'Depth-Damage Relationship'!$A$5:$F$32, 6))*$F$17)) -> 1 | D10: =(((VLOOKUP((CEILING(I10,0.5)), 'Depth-Damage Relationship'!$A$5:$F$32, 2))*$B$17)+((VLOOKUP((CEILING(I10,0.5)), 'Depth-Damage Relationship'!$A$5:$F$32, 3))*$C$17)+((VLOOKUP((CEILING(I10,0.5)), 'Depth-Damage Relationship'!$A$5:$F$32, 4))*$D$17)+((VLOOKUP((CEILING(I10,0.5)), 'Depth-Damage Relationship'!$A$5:$F$32, 5))*$E$17)+((VLOOKUP((CEILING(I10,0.5)), 'Depth-Damage Relationship'!$A$5:$F$32, 6))*$F$17)) -> 1 | E10: =(((VLOOKUP((CEILING(H10,0.5)), 'Depth-Damage Relationship'!$A$5:$F$32, 2))*$B$17*$B$18*$B10)+((VLOOKUP((CEILING(H10,0.5)), 'Depth-Damage Relationship'!$A$5:$F$32, 3))*$C$17*$C$18*$B10)+((VLOOKUP((CEILING(H10,0.5)), 'Depth-Damage Relationship'!$A$5:$F$32, 4))*$D$17*$D$18*$B10)+((VLOOKUP((CEILING(H10,0.5)), 'Depth-Damage Relationship'!$A$5:$F$32, 3))*$E$17*$E$18*$B10)+((VLOOKUP((CEILING(H10,0.5)), 'Depth-Damage Relationship'!$A$5:$F$32, 3))*$F$17*$F$18*$B10)) -> 66090175 | F10: =(((VLOOKUP((CEILING(I10,0.5)), 'Depth-Damage Relationship'!$A$5:$F$32, 2))*$B$17*$B$18*$B10)+((VLOOKUP((CEILING(I10,0.5)), 'Depth-Damage Relationship'!$A$5:$F$32, 3))*$C$17*$C$18*$B10)+((VLOOKUP((CEILING(I10,0.5)), 'Depth-Damage Relationship'!$A$5:$F$32, 4))*$D$17*$D$18*$B10)+((VLOOKUP((CEILING(I10,0.5)), 'Depth-Damage Relationship'!$A$5:$F$32, 3))*$E$17*$E$18*$B10)+((VLOOKUP((CEILING(I10,0.5)), 'Depth-Damage Relationship'!$A$5:$F$32, 3))*$F$17*$F$18*$B10)) -> 66090175 | H10: 7.2960267 | I10: 10.596033 | J10: >5,000 | K10: MCDD, personal communication, 2017
A11: Alamo Rental | B11: 450 | C11: =(((VLOOKUP((CEILING(H11,0.5)), 'Depth-Damage Relationship'!$A$5:$F$32, 2))*$B$17)+((VLOOKUP((CEILING(H11,0.5)), 'Depth-Damage Relationship'!$A$5:$F$32, 3))*$C$17)+((VLOOKUP((CEILING(H11,0.5)), 'Depth-Damage Relationship'!$A$5:$F$32, 4))*$D$17)+((VLOOKUP((CEILING(H11,0.5)), 'Depth-Damage Relationship'!$A$5:$F$32, 5))*$E$17)+((VLOOKUP((CEILING(H11,0.5)), 'Depth-Damage Relationship'!$A$5:$F$32, 6))*$F$17)) -> 1 | D11: =(((VLOOKUP((CEILING(I11,0.5)), 'Depth-Damage Relationship'!$A$5:$F$32, 2))*$B$17)+((VLOOKUP((CEILING(I11,0.5)), 'Depth-Damage Relationship'!$A$5:$F$32, 3))*$C$17)+((VLOOKUP((CEILING(I11,0.5)), 'Depth-Damage Relationship'!$A$5:$F$32, 4))*$D$17)+((VLOOKUP((CEILING(I11,0.5)), 'Depth-Damage Relationship'!$A$5:$F$32, 5))*$E$17)+((VLOOKUP((CEILING(I11,0.5)), 'Depth-Damage Relationship'!$A$5:$F$32, 6))*$F$17)) -> 1 | E11: =(((VLOOKUP((CEILING(H11,0.5)), 'Depth-Damage Relationship'!$A$5:$F$32, 2))*$B$17*$B$18*$B11)+((VLOOKUP((CEILING(H11,0.5)), 'Depth-Damage Relationship'!$A$5:$F$32, 3))*$C$17*$C$18*$B11)+((VLOOKUP((CEILING(H11,0.5)), 'Depth-Damage Relationship'!$A$5:$F$32, 4))*$D$17*$D$18*$B11)+((VLOOKUP((CEILING(H11,0.5)), 'Depth-Damage Relationship'!$A$5:$F$32, 3))*$E$17*$E$18*$B11)+((VLOOKUP((CEILING(H11,0.5)), 'Depth-Damage Relationship'!$A$5:$F$32, 3))*$F$17*$F$18*$B11)) -> 11896232 | F11: =(((VLOOKUP((CEILING(I11,0.5)), 'Depth-Damage Relationship'!$A$5:$F$32, 2))*$B$17*$B$18*$B11)+((VLOOKUP((CEILING(I11,0.5)), 'Depth-Damage Relationship'!$A$5:$F$32, 3))*$C$17*$C$18*$B11)+((VLOOKUP((CEILING(I11,0.5)), 'Depth-Damage Relationship'!$A$5:$F$32, 4))*$D$17*$D$18*$B11)+((VLOOKUP((CEILING(I11,0.5)), 'Depth-Damage Relationship'!$A$5:$F$32, 3))*$E$17*$E$18*$B11)+((VLOOKUP((CEILING(I11,0.5)), 'Depth-Damage Relationship'!$A$5:$F$32, 3))*$F$17*$F$18*$B11)) -> 11896232 | H11: 7.48452 | I11: 10.7845 | J11: 900 | K11: Estimate by DOGAMI, based on 2016 aerial imagery, actual values may vary
A12: Hertz and Avis Rental | B12: 750 | C12: =(((VLOOKUP((CEILING(H12,0.5)), 'Depth-Damage Relationship'!$A$5:$F$32, 2))*$B$17)+((VLOOKUP((CEILING(H12,0.5)), 'Depth-Damage Relationship'!$A$5:$F$32, 3))*$C$17)+((VLOOKUP((CEILING(H12,0.5)), 'Depth-Damage Relationship'!$A$5:$F$32, 4))*$D$17)+((VLOOKUP((CEILING(H12,0.5)), 'Depth-Damage Relationship'!$A$5:$F$32, 5))*$E$17)+((VLOOKUP((CEILING(H12,0.5)), 'Depth-Damage Relationship'!$A$5:$F$32, 6))*$F$17)) -> 1 | D12: =(((VLOOKUP((CEILING(I12,0.5)), 'Depth-Damage Relationship'!$A$5:$F$32, 2))*$B$17)+((VLOOKUP((CEILING(I12,0.5)), 'Depth-Damage Relationship'!$A$5:$F$32, 3))*$C$17)+((VLOOKUP((CEILING(I12,0.5)), 'Depth-Damage Relationship'!$A$5:$F$32, 4))*$D$17)+((VLOOKUP((CEILING(I12,0.5)), 'Depth-Damage Relationship'!$A$5:$F$32, 5))*$E$17)+((VLOOKUP((CEILING(I12,0.5)), 'Depth-Damage Relationship'!$A$5:$F$32, 6))*$F$17)) -> 1 | E12: =(((VLOOKUP((CEILING(H12,0.5)), 'Depth-Damage Relationship'!$A$5:$F$32, 2))*$B$17*$B$18*$B12)+((VLOOKUP((CEILING(H12,0.5)), 'Depth-Damage Relationship'!$A$5:$F$32, 3))*$C$17*$C$18*$B12)+((VLOOKUP((CEILING(H12,0.5)), 'Depth-Damage Relationship'!$A$5:$F$32, 4))*$D$17*$D$18*$B12)+((VLOOKUP((CEILING(H12,0.5)), 'Depth-Damage Relationship'!$A$5:$F$32, 3))*$E$17*$E$18*$B12)+((VLOOKUP((CEILING(H12,0.5)), 'Depth-Damage Relationship'!$A$5:$F$32, 3))*$F$17*$F$18*$B12)) -> 19827052 | F12: =(((VLOOKUP((CEILING(I12,0.5)), 'Depth-Damage Relationship'!$A$5:$F$32, 2))*$B$17*$B$18*$B12)+((VLOOKUP((CEILING(I12,0.5)), 'Depth-Damage Relationship'!$A$5:$F$32, 3))*$C$17*$C$18*$B12)+((VLOOKUP((CEILING(I12,0.5)), 'Depth-Damage Relationship'!$A$5:$F$32, 4))*$D$17*$D$18*$B12)+((VLOOKUP((CEILING(I12,0.5)), 'Depth-Damage Relationship'!$A$5:$F$32, 3))*$E$17*$E$18*$B12)+((VLOOKUP((CEILING(I12,0.5)), 'Depth-Damage Relationship'!$A$5:$F$32, 3))*$F$17*$F$18*$B12)) -> 19827052 | H12: 4.3025 | I12: 6.85778 | J12: 1500 | K12: Estimate by DOGAMI, based on 2016 aerial imagery, actual values may vary
A13: Park and Fly | B13: 225 | C13: =(((VLOOKUP((CEILING(H13,0.5)), 'Depth-Damage Relationship'!$A$5:$F$32, 2))*$B$17)+((VLOOKUP((CEILING(H13,0.5)), 'Depth-Damage Relationship'!$A$5:$F$32, 3))*$C$17)+((VLOOKUP((CEILING(H13,0.5)), 'Depth-Damage Relationship'!$A$5:$F$32, 4))*$D$17)+((VLOOKUP((CEILING(H13,0.5)), 'Depth-Damage Relationship'!$A$5:$F$32, 5))*$E$17)+((VLOOKUP((CEILING(H13,0.5)), 'Depth-Damage Relationship'!$A$5:$F$32, 6))*$F$17)) -> 1 | D13: =(((VLOOKUP((CEILING(I13,0.5)), 'Depth-Damage Relationship'!$A$5:$F$32, 2))*$B$17)+((VLOOKUP((CEILING(I13,0.5)), 'Depth-Damage Relationship'!$A$5:$F$32, 3))*$C$17)+((VLOOKUP((CEILING(I13,0.5)), 'Depth-Damage Relationship'!$A$5:$F$32, 4))*$D$17)+((VLOOKUP((CEILING(I13,0.5)), 'Depth-Damage Relationship'!$A$5:$F$32, 5))*$E$17)+((VLOOKUP((CEILING(I13,0.5)), 'Depth-Damage Relationship'!$A$5:$F$32, 6))*$F$17)) -> 1 | E13: =(((VLOOKUP((CEILING(H13,0.5)), 'Depth-Damage Relationship'!$A$5:$F$32, 2))*$B$17*$B$18*$B13)+((VLOOKUP((CEILING(H13,0.5)), 'Depth-Damage Relationship'!$A$5:$F$32, 3))*$C$17*$C$18*$B13)+((VLOOKUP((CEILING(H13,0.5)), 'Depth-Damage Relationship'!$A$5:$F$32, 4))*$D$17*$D$18*$B13)+((VLOOKUP((CEILING(H13,0.5)), 'Depth-Damage Relationship'!$A$5:$F$32, 3))*$E$17*$E$18*$B13)+((VLOOKUP((CEILING(H13,0.5)), 'Depth-Damage Relationship'!$A$5:$F$32, 3))*$F$17*$F$18*$B13)) -> 5948115.8 | F13: =(((VLOOKUP((CEILING(I13,0.5)), 'Depth-Damage Relationship'!$A$5:$F$32, 2))*$B$17*$B$18*$B13)+((VLOOKUP((CEILING(I13,0.5)), 'Depth-Damage Relationship'!$A$5:$F$32, 3))*$C$17*$C$18*$B13)+((VLOOKUP((CEILING(I13,0.5)), 'Depth-Damage Relationship'!$A$5:$F$32, 4))*$D$17*$D$18*$B13)+((VLOOKUP((CEILING(I13,0.5)), 'Depth-Damage Relationship'!$A$5:$F$32, 3))*$E$17*$E$18*$B13)+((VLOOKUP((CEILING(I13,0.5)), 'Depth-Damage Relationship'!$A$5:$F$32, 3))*$F$17*$F$18*$B13)) -> 5948115.8 | H13: 10.67 | I13: 13.97 | J13: 550 | K13: Estimate by DOGAMI, based on 2016 aerial imagery, actual values may vary
A16: Vehicle Type | B16: Sub-compact | C16: Compact | D16: Mid-Size | E16: Large | F16: Trucks/SUVs
A17: Proportion of Vehicles by Type (EXAMPLE: Equal number of each type of vehicle) | B17: 0.2 | C17: 0.2 | D17: 0.2 | E17: 0.2 | F17: 0.2
A18: Market Value Per Vehicle (EXAMPLE: Sept. 2017 CPI Adjusted) | B18: 14823.96 | C18: 19765.29 | D18: 27177.27 | E18: 38295.24 | F18: 32118.59
A21: Green cells should be updated by user
A22: Grey cells are calculated results based on 'Depth Damage Relationship' sheet and green cell values
A24: Explanation of Spreadsheet: Because the number, type, and value of vehicles varies greatly with time in this region, we have not chosen to provide estimates of the loss value from flood damage. Instead, we created this “Damage to Parked Vehicles” spreadsheet which allows users to estimate the potential replacement cost required to fix or replace vehicles damaged during a flood breach. We allow for an adjustable number of vehicles of various types within nine different large parking lots in Multnomah County Drainage District-West (MCDD-W) (see Figure 19 of the accompanying report). The depth-damage relationships used to make these estimates were created by the USACE (2006, Table 6) and are reproduced in the ‘Depth-Damaged Relationship’ tab. We estimated the depth of flooding in each parking lot based on the average depth of flooding using our 100-year and 500-year flood depth grids. We estimated the number of vehicles within each lot either based on values provided by Multnomah County Drainage District staff or from reviewing 2016 aerial imagery. An example of the value of the five types of vehicles As an example, we have filled in the green cells with a possible number of vehicles (i.e. parking lots at 50% total capacity), combination of types of vehicles (i.e. an equal number of each type of vehicle), and value of vehicles (September 2017 CPI adjusted costs). These values may be adjusted for different user-generated scenarios. It is important to note that all nine parking lots will be flooded by between 4 and 10 feet during a 100-year flood and 6 and 13 feet during a 500-year flood. Since the USACE depth-damage relationships predict that all types of vehicles will experience complete damage (i.e. 100% of value lost) when inundated by 3 ft, the spreadsheet indicates that all vehicles in the nine MCDD-W parking lots will experience complete damage.
A26: Source: United States Army Corps of Engineers (USACE), New Orleans District, 2006, Final Report: Depth-damage relationships for structures, contents, and vehicles and content-to-structure value ratios (CSVR) in support of the Donaldsonville to the Gulf, Louisiana, feasibility study. Prepared by Gulf Engineers & Consultants, Baton Rouge, Louisiana. 84 p. with 5 appendices.

Sheet Depth-Damage Relationship
A1: DOGAMI Special Paper 50, Flood Risk Assessment for the Columbia Corridor Drainage Districts in Multnomah County, Oregon
A2: Depth-Damage Relationship
B3: Loss Ratio By Vehicle Type (%)
A4: Flood Depth (ft) | B4: Sub-compact | C4: Compact | D4: Mid-Size | E4: Large | F4: Trucks/SUVs
A5: 0 | B5: 0 | C5: 0 | D5: 0 | E5: 0 | F5: 0
A6: 0.5 | B6: 0 | C6: 0 | D6: 0 | E6: 0 | F6: 0
A7: 1 | B7: 0.14 | C7: 0.09 | D7: 0.08 | E7: 0.05 | F7: 0.04
A8: 1.5 | B8: 0.27 | C8: 0.19 | D8: 0.17 | E8: 0.16 | F8: 0.15
A9: 2 | B9: 0.5 | C9: 0.25 | D9: 0.21 | E9: 0.19 | F9: 0.18
A10: 2.5 | B10: 0.75 | C10: 0.63 | D10: 0.61 | E10: 0.6 | F10: 0.59
A11: 3 | B11: 1 | C11: 1 | D11: 1 | E11: 1 | F11: 1
A12: 3.5 | B12: 1 | C12: 1 | D12: 1 | E12: 1 | F12: 1
A13: 4 | B13: 1 | C13: 1 | D13: 1 | E13: 1 | F13: 1
A14: 4.5 | B14: 1 | C14: 1 | D14: 1 | E14: 1 | F14: 1
A15: 5 | B15: 1 | C15: 1 | D15: 1 | E15: 1 | F15: 1
A16: 5.5 | B16: 1 | C16: 1 | D16: 1 | E16: 1 | F16: 1
... A32: 13.5 | B32: 1 | C32: 1 | D32: 1 | E32: 1 | F32: 1
A36: Source: United States Army Corps of Engineers (USACE), New Orleans District, 2006, Final Report: Depth-damage relationships for structures, contents, and vehicles and content-to-structure value ratios (CSVR) in support of the Donaldsonville to the Gulf, Louisiana, feasibility study. Prepared by Gulf Engineers & Consultants, Baton Rouge, Louisiana. 84 p. with 5 appendices.
